BEGIN:VCALENDAR
VERSION:2.0
PRODID:-//Truro Diocese - ECPv6.15.15//NONSGML v1.0//EN
CALSCALE:GREGORIAN
METHOD:PUBLISH
X-WR-CALNAME:Truro Diocese
X-ORIGINAL-URL:https://trurodiocese.org.uk
X-WR-CALDESC:Events for Truro Diocese
REFRESH-INTERVAL;VALUE=DURATION:PT1H
X-Robots-Tag:noindex
X-PUBLISHED-TTL:PT1H
BEGIN:VTIMEZONE
TZID:Europe/London
BEGIN:DAYLIGHT
TZOFFSETFROM:+0000
TZOFFSETTO:+0100
TZNAME:BST
DTSTART:20180325T010000
END:DAYLIGHT
BEGIN:STANDARD
TZOFFSETFROM:+0100
TZOFFSETTO:+0000
TZNAME:GMT
DTSTART:20181028T010000
END:STANDARD
BEGIN:DAYLIGHT
TZOFFSETFROM:+0000
TZOFFSETTO:+0100
TZNAME:BST
DTSTART:20190331T010000
END:DAYLIGHT
BEGIN:STANDARD
TZOFFSETFROM:+0100
TZOFFSETTO:+0000
TZNAME:GMT
DTSTART:20191027T010000
END:STANDARD
BEGIN:DAYLIGHT
TZOFFSETFROM:+0000
TZOFFSETTO:+0100
TZNAME:BST
DTSTART:20200329T010000
END:DAYLIGHT
BEGIN:STANDARD
TZOFFSETFROM:+0100
TZOFFSETTO:+0000
TZNAME:GMT
DTSTART:20201025T010000
END:STANDARD
END:VTIMEZONE
BEGIN:VEVENT
DTSTART;VALUE=DATE:20190119
DTEND;VALUE=DATE:20190303
DTSTAMP:20260421T111435
CREATED:20190107T103650Z
LAST-MODIFIED:20190107T105449Z
UID:10002101-1547856000-1551571199@trurodiocese.org.uk
SUMMARY:Windows into Eco-Christianity
DESCRIPTION:Windows into Echo-Christianity is a six session course looking at Christian responses to the world’s current environmental crisis. No previous knowledge or religious faith is required. Each session lasts 2 hours including time for coffee\, questions and discussions. Course fee is £15 per person\, payable at the second session and there is no booking needed. \nThe sessions run on the following Saturday mornings: \n\n19th January\n26th January\n2nd February\n9th February\n16th February\n2nd March\n\n  \nEach session starts at 10:15am to 12:15pm. \nFor more information contact Elly Sheard – reverendelly@gmail.com 01872 540207 or 07713327263
URL:https://trurodiocese.org.uk/event/windows-into-eco-christianity/
LOCATION:The Morrab Library\, Morrab Gardens\, TR18 4DA\, United Kingdom
END:VEVENT
END:VCALENDAR