BEGIN:VCALENDAR
VERSION:2.0
PRODID:-//Truro Diocese - ECPv6.15.15//NONSGML v1.0//EN
CALSCALE:GREGORIAN
METHOD:PUBLISH
X-ORIGINAL-URL:https://trurodiocese.org.uk
X-WR-CALDESC:Events for Truro Diocese
REFRESH-INTERVAL;VALUE=DURATION:PT1H
X-Robots-Tag:noindex
X-PUBLISHED-TTL:PT1H
BEGIN:VTIMEZONE
TZID:Europe/London
BEGIN:DAYLIGHT
TZOFFSETFROM:+0000
TZOFFSETTO:+0100
TZNAME:BST
DTSTART:20160327T010000
END:DAYLIGHT
BEGIN:STANDARD
TZOFFSETFROM:+0100
TZOFFSETTO:+0000
TZNAME:GMT
DTSTART:20161030T010000
END:STANDARD
BEGIN:DAYLIGHT
TZOFFSETFROM:+0000
TZOFFSETTO:+0100
TZNAME:BST
DTSTART:20170326T010000
END:DAYLIGHT
BEGIN:STANDARD
TZOFFSETFROM:+0100
TZOFFSETTO:+0000
TZNAME:GMT
DTSTART:20171029T010000
END:STANDARD
BEGIN:DAYLIGHT
TZOFFSETFROM:+0000
TZOFFSETTO:+0100
TZNAME:BST
DTSTART:20180325T010000
END:DAYLIGHT
BEGIN:STANDARD
TZOFFSETFROM:+0100
TZOFFSETTO:+0000
TZNAME:GMT
DTSTART:20181028T010000
END:STANDARD
END:VTIMEZONE
BEGIN:VEVENT
DTSTART;VALUE=DATE:20170708
DTEND;VALUE=DATE:20170709
DTSTAMP:20260422T111015
CREATED:20170627T142134Z
LAST-MODIFIED:20170627T142134Z
UID:10001972-1499472000-1499558399@trurodiocese.org.uk
SUMMARY:St Martin's Churches Marquee at The Liskeard Show
DESCRIPTION:Visit St Martin’s Church’s Marquee at The Liskeard Show on the 8th of July 2017. \nThe Liskeard Show is one of the biggest shows in the South West\, with wide variation of displays\, stalls\, competitions and entertainment. \nThe show is held in several fields at Merrymeet\, near Liskeard in the South East of Cornwall\, PL14 3LE
URL:https://trurodiocese.org.uk/event/st-martins-churches-marquee-at-the-liskeard-show/
LOCATION:The Liskeard Show\, PL14 3PL
END:VEVENT
END:VCALENDAR