BEGIN:VCALENDAR
VERSION:2.0
PRODID:-//Truro Diocese - ECPv6.15.15//NONSGML v1.0//EN
CALSCALE:GREGORIAN
METHOD:PUBLISH
X-ORIGINAL-URL:https://trurodiocese.org.uk
X-WR-CALDESC:Events for Truro Diocese
REFRESH-INTERVAL;VALUE=DURATION:PT1H
X-Robots-Tag:noindex
X-PUBLISHED-TTL:PT1H
BEGIN:VTIMEZONE
TZID:Europe/London
BEGIN:DAYLIGHT
TZOFFSETFROM:+0000
TZOFFSETTO:+0100
TZNAME:BST
DTSTART:20140330T010000
END:DAYLIGHT
BEGIN:STANDARD
TZOFFSETFROM:+0100
TZOFFSETTO:+0000
TZNAME:GMT
DTSTART:20141026T010000
END:STANDARD
BEGIN:DAYLIGHT
TZOFFSETFROM:+0000
TZOFFSETTO:+0100
TZNAME:BST
DTSTART:20150329T010000
END:DAYLIGHT
BEGIN:STANDARD
TZOFFSETFROM:+0100
TZOFFSETTO:+0000
TZNAME:GMT
DTSTART:20151025T010000
END:STANDARD
BEGIN:DAYLIGHT
TZOFFSETFROM:+0000
TZOFFSETTO:+0100
TZNAME:BST
DTSTART:20160327T010000
END:DAYLIGHT
BEGIN:STANDARD
TZOFFSETFROM:+0100
TZOFFSETTO:+0000
TZNAME:GMT
DTSTART:20161030T010000
END:STANDARD
BEGIN:DAYLIGHT
TZOFFSETFROM:+0000
TZOFFSETTO:+0100
TZNAME:BST
DTSTART:20170326T010000
END:DAYLIGHT
BEGIN:STANDARD
TZOFFSETFROM:+0100
TZOFFSETTO:+0000
TZNAME:GMT
DTSTART:20171029T010000
END:STANDARD
BEGIN:DAYLIGHT
TZOFFSETFROM:+0000
TZOFFSETTO:+0100
TZNAME:BST
DTSTART:20180325T010000
END:DAYLIGHT
BEGIN:STANDARD
TZOFFSETFROM:+0100
TZOFFSETTO:+0000
TZNAME:GMT
DTSTART:20181028T010000
END:STANDARD
BEGIN:DAYLIGHT
TZOFFSETFROM:+0000
TZOFFSETTO:+0100
TZNAME:BST
DTSTART:20190331T010000
END:DAYLIGHT
BEGIN:STANDARD
TZOFFSETFROM:+0100
TZOFFSETTO:+0000
TZNAME:GMT
DTSTART:20191027T010000
END:STANDARD
END:VTIMEZONE
BEGIN:VEVENT
DTSTART;TZID=Europe/London:20180827T120000
DTEND;TZID=Europe/London:20180827T160000
DTSTAMP:20260422T142423
CREATED:20180718T093216Z
LAST-MODIFIED:20180718T093216Z
UID:10002065-1535371200-1535385600@trurodiocese.org.uk
SUMMARY:Walk the St Winnow Way
DESCRIPTION:Walk the St Winnow Way is a 5.6 mile walk between four beautiful medieval churches linked through the ages by their ancient celtic foundation by St Winnow. \n27 August 12 noon to 4pm. \nFurther information can be found here.
URL:https://trurodiocese.org.uk/event/walk-the-st-winnow-way-2/
LOCATION:St Winnow Church\, St Winnow \, Lostwithiel\, PL22 0LF
END:VEVENT
BEGIN:VEVENT
DTSTART;VALUE=DATE:20170331
DTEND;VALUE=DATE:20170401
DTSTAMP:20260422T142423
CREATED:20170206T075140Z
LAST-MODIFIED:20170206T075140Z
UID:10001928-1490918400-1491004799@trurodiocese.org.uk
SUMMARY:The Great Lerryn Quilt Raffle
DESCRIPTION:See poster for further details
URL:https://trurodiocese.org.uk/event/the-great-lerryn-quilt-raffle/
LOCATION:St Winnow Church\, St Winnow \, Lostwithiel\, PL22 0LF
END:VEVENT
BEGIN:VEVENT
DTSTART;TZID=Europe/London:20170329T193000
DTEND;TZID=Europe/London:20170329T203000
DTSTAMP:20260422T142423
CREATED:20170206T074310Z
LAST-MODIFIED:20170206T074310Z
UID:10001927-1490815800-1490819400@trurodiocese.org.uk
SUMMARY:A Breath of Sea Air- St Winnow Parish Church
DESCRIPTION:
URL:https://trurodiocese.org.uk/event/a-breath-of-sea-air-st-winnow-parish-church/
LOCATION:St Winnow Church\, St Winnow \, Lostwithiel\, PL22 0LF
END:VEVENT
BEGIN:VEVENT
DTSTART;TZID=Europe/London:20160820T140000
DTEND;TZID=Europe/London:20160820T170000
DTSTAMP:20260422T142423
CREATED:20160623T135446Z
LAST-MODIFIED:20160623T135446Z
UID:10002612-1471701600-1471712400@trurodiocese.org.uk
SUMMARY:Summer Fayre at St Winnow Church
DESCRIPTION:A Summer Fayre is going to be held at St Winnow Parish Church on 20 August\, from 2pm to 5pm.
URL:https://trurodiocese.org.uk/event/summer-fayre-at-st-winnow-church/
LOCATION:St Winnow Church\, St Winnow \, Lostwithiel\, PL22 0LF
END:VEVENT
BEGIN:VEVENT
DTSTART;TZID=Europe/London:20151206T110000
DTEND;TZID=Europe/London:20151206T123000
DTSTAMP:20260422T142423
CREATED:20151118T143832Z
LAST-MODIFIED:20151118T143832Z
UID:10001707-1449399600-1449405000@trurodiocese.org.uk
SUMMARY:Family Eucharist & Christingle
DESCRIPTION:Family Eucharist & Christingle\, St Winnow Church\, 11am
URL:https://trurodiocese.org.uk/event/family-eucharist-christingle/
LOCATION:St Winnow Church\, St Winnow \, Lostwithiel\, PL22 0LF
END:VEVENT
END:VCALENDAR