BEGIN:VCALENDAR
VERSION:2.0
PRODID:-//Truro Diocese - ECPv6.15.15//NONSGML v1.0//EN
CALSCALE:GREGORIAN
METHOD:PUBLISH
X-WR-CALNAME:Truro Diocese
X-ORIGINAL-URL:https://trurodiocese.org.uk
X-WR-CALDESC:Events for Truro Diocese
REFRESH-INTERVAL;VALUE=DURATION:PT1H
X-Robots-Tag:noindex
X-PUBLISHED-TTL:PT1H
BEGIN:VTIMEZONE
TZID:Europe/London
BEGIN:DAYLIGHT
TZOFFSETFROM:+0000
TZOFFSETTO:+0100
TZNAME:BST
DTSTART:20160327T010000
END:DAYLIGHT
BEGIN:STANDARD
TZOFFSETFROM:+0100
TZOFFSETTO:+0000
TZNAME:GMT
DTSTART:20161030T010000
END:STANDARD
BEGIN:DAYLIGHT
TZOFFSETFROM:+0000
TZOFFSETTO:+0100
TZNAME:BST
DTSTART:20170326T010000
END:DAYLIGHT
BEGIN:STANDARD
TZOFFSETFROM:+0100
TZOFFSETTO:+0000
TZNAME:GMT
DTSTART:20171029T010000
END:STANDARD
BEGIN:DAYLIGHT
TZOFFSETFROM:+0000
TZOFFSETTO:+0100
TZNAME:BST
DTSTART:20180325T010000
END:DAYLIGHT
BEGIN:STANDARD
TZOFFSETFROM:+0100
TZOFFSETTO:+0000
TZNAME:GMT
DTSTART:20181028T010000
END:STANDARD
END:VTIMEZONE
BEGIN:VEVENT
DTSTART;VALUE=DATE:20170806
DTEND;VALUE=DATE:20170809
DTSTAMP:20260422T080322
CREATED:20170703T115157Z
LAST-MODIFIED:20170703T115936Z
UID:10001976-1501977600-1502236799@trurodiocese.org.uk
SUMMARY:Feast Week at St Stephen
DESCRIPTION:St Stephen Church are celebrating Feast Week with a Feast Service on Sunday 6th August\, 11:00am. The preacher for the service will be Revd Steve Payne and there will be a pasty lunch for everyone following the service. The choir will be singing on Feast Sunday to help lead the celebrations and will sing an anthem\, rehearsals will be held every Wednesday from the 12th of July\, with a 5:45pm start. All ages welcome. \nA Church Fete will be held on Tuesday the 8th of August\, following Feast Sunday. The Church fete will be opened by James Churchfield from Radio Cornwall at 6:00pm. All items for stalls or the raffle\, or any help will be much appreciated. \nCelebrations continue throughout the week.
URL:https://trurodiocese.org.uk/event/feast-week-at-st-stephen/
LOCATION:St Stephen-In-Brannel\, Fore Street\, St Stephen\, PL26 7NN\, United Kingdom
END:VEVENT
END:VCALENDAR