BEGIN:VCALENDAR
VERSION:2.0
PRODID:-//Truro Diocese - ECPv6.15.15//NONSGML v1.0//EN
CALSCALE:GREGORIAN
METHOD:PUBLISH
X-ORIGINAL-URL:https://trurodiocese.org.uk
X-WR-CALDESC:Events for Truro Diocese
REFRESH-INTERVAL;VALUE=DURATION:PT1H
X-Robots-Tag:noindex
X-PUBLISHED-TTL:PT1H
BEGIN:VTIMEZONE
TZID:Europe/London
BEGIN:DAYLIGHT
TZOFFSETFROM:+0000
TZOFFSETTO:+0100
TZNAME:BST
DTSTART:20170326T010000
END:DAYLIGHT
BEGIN:STANDARD
TZOFFSETFROM:+0100
TZOFFSETTO:+0000
TZNAME:GMT
DTSTART:20171029T010000
END:STANDARD
BEGIN:DAYLIGHT
TZOFFSETFROM:+0000
TZOFFSETTO:+0100
TZNAME:BST
DTSTART:20180325T010000
END:DAYLIGHT
BEGIN:STANDARD
TZOFFSETFROM:+0100
TZOFFSETTO:+0000
TZNAME:GMT
DTSTART:20181028T010000
END:STANDARD
BEGIN:DAYLIGHT
TZOFFSETFROM:+0000
TZOFFSETTO:+0100
TZNAME:BST
DTSTART:20190331T010000
END:DAYLIGHT
BEGIN:STANDARD
TZOFFSETFROM:+0100
TZOFFSETTO:+0000
TZNAME:GMT
DTSTART:20191027T010000
END:STANDARD
END:VTIMEZONE
BEGIN:VEVENT
DTSTART;TZID=Europe/London:20180325T100000
DTEND;TZID=Europe/London:20180325T100000
DTSTAMP:20260420T170309
CREATED:20180316T134704Z
LAST-MODIFIED:20180316T140630Z
UID:10002820-1521972000-1521972000@trurodiocese.org.uk
SUMMARY:Palm Sunday Service
DESCRIPTION:Palm Sunday\, 25th of March\, St Sampson’s Church South Hill are planning an informal service\, with a real donkey. A good natured chap called Corduroy\, who is a local resident. The service will take place at Golberdon Parish Hall at 10am. We will have a short walk of witness and singing\, led by the donkey\, starting outside Green Meadow (on the road towards South Hill) to the hall. Join us there or along the route\, or at the hall\, bring a branch to wave. This will be followed by a short friendly service\, biscuit making for all ages\, tea/coffee and hot cross buns. \nFor more information contact judithhayers@yahoo.co.uk
URL:https://trurodiocese.org.uk/event/palm-sunday-service/
LOCATION:St Sampson’s Church\, South Hill\, PL17 8NZ\, United Kingdom
END:VEVENT
END:VCALENDAR