BEGIN:VCALENDAR
VERSION:2.0
PRODID:-//Truro Diocese - ECPv6.15.15//NONSGML v1.0//EN
CALSCALE:GREGORIAN
METHOD:PUBLISH
X-WR-CALNAME:Truro Diocese
X-ORIGINAL-URL:https://trurodiocese.org.uk
X-WR-CALDESC:Events for Truro Diocese
REFRESH-INTERVAL;VALUE=DURATION:PT1H
X-Robots-Tag:noindex
X-PUBLISHED-TTL:PT1H
BEGIN:VTIMEZONE
TZID:Europe/London
BEGIN:DAYLIGHT
TZOFFSETFROM:+0000
TZOFFSETTO:+0100
TZNAME:BST
DTSTART:20210328T010000
END:DAYLIGHT
BEGIN:STANDARD
TZOFFSETFROM:+0100
TZOFFSETTO:+0000
TZNAME:GMT
DTSTART:20211031T010000
END:STANDARD
BEGIN:DAYLIGHT
TZOFFSETFROM:+0000
TZOFFSETTO:+0100
TZNAME:BST
DTSTART:20220327T010000
END:DAYLIGHT
BEGIN:STANDARD
TZOFFSETFROM:+0100
TZOFFSETTO:+0000
TZNAME:GMT
DTSTART:20221030T010000
END:STANDARD
BEGIN:DAYLIGHT
TZOFFSETFROM:+0000
TZOFFSETTO:+0100
TZNAME:BST
DTSTART:20230326T010000
END:DAYLIGHT
BEGIN:STANDARD
TZOFFSETFROM:+0100
TZOFFSETTO:+0000
TZNAME:GMT
DTSTART:20231029T010000
END:STANDARD
END:VTIMEZONE
BEGIN:VEVENT
DTSTART;TZID=Europe/London:20220908T123000
DTEND;TZID=Europe/London:20220908T143000
DTSTAMP:20260421T215237
CREATED:20220823T075601Z
LAST-MODIFIED:20220823T075921Z
UID:10002231-1662640200-1662647400@trurodiocese.org.uk
SUMMARY:Data and Community consultation workshop – in person
DESCRIPTION:In this in person session we will explore how you can best use data to bolster a funding application. \nWe will explore: \n\nWhy we should use data in funding applications.\nWhere to find good data.\nHow to weave it into your application.\n\nWe will also explore: \n\nWhat a community consultation is.\nTop tips for conducting a community consultation.\n\nPlease bring a laptop or tablet device with you to the session as there will be an opportunity to explore some data sets as part of the workshop. \nRefreshments provided \nLink to website: BOOK NOW: Data and Community Consultations Workshop – Transformation Cornwall (transformation-cornwall.org.uk) \nBook here: https://bit.ly/3ozfOvf
URL:https://trurodiocese.org.uk/event/1-data-and-community-consultation-workshop-in-person/
LOCATION:St Petrocs Parish Centre\, Bodmin\, United Kingdom
END:VEVENT
END:VCALENDAR