BEGIN:VCALENDAR
VERSION:2.0
PRODID:-//Truro Diocese - ECPv6.15.15//NONSGML v1.0//EN
CALSCALE:GREGORIAN
METHOD:PUBLISH
X-ORIGINAL-URL:https://trurodiocese.org.uk
X-WR-CALDESC:Events for Truro Diocese
REFRESH-INTERVAL;VALUE=DURATION:PT1H
X-Robots-Tag:noindex
X-PUBLISHED-TTL:PT1H
BEGIN:VTIMEZONE
TZID:Europe/London
BEGIN:DAYLIGHT
TZOFFSETFROM:+0000
TZOFFSETTO:+0100
TZNAME:BST
DTSTART:20150329T010000
END:DAYLIGHT
BEGIN:STANDARD
TZOFFSETFROM:+0100
TZOFFSETTO:+0000
TZNAME:GMT
DTSTART:20151025T010000
END:STANDARD
BEGIN:DAYLIGHT
TZOFFSETFROM:+0000
TZOFFSETTO:+0100
TZNAME:BST
DTSTART:20160327T010000
END:DAYLIGHT
BEGIN:STANDARD
TZOFFSETFROM:+0100
TZOFFSETTO:+0000
TZNAME:GMT
DTSTART:20161030T010000
END:STANDARD
BEGIN:DAYLIGHT
TZOFFSETFROM:+0000
TZOFFSETTO:+0100
TZNAME:BST
DTSTART:20170326T010000
END:DAYLIGHT
BEGIN:STANDARD
TZOFFSETFROM:+0100
TZOFFSETTO:+0000
TZNAME:GMT
DTSTART:20171029T010000
END:STANDARD
BEGIN:DAYLIGHT
TZOFFSETFROM:+0000
TZOFFSETTO:+0100
TZNAME:BST
DTSTART:20180325T010000
END:DAYLIGHT
BEGIN:STANDARD
TZOFFSETFROM:+0100
TZOFFSETTO:+0000
TZNAME:GMT
DTSTART:20181028T010000
END:STANDARD
BEGIN:DAYLIGHT
TZOFFSETFROM:+0000
TZOFFSETTO:+0100
TZNAME:BST
DTSTART:20190331T010000
END:DAYLIGHT
BEGIN:STANDARD
TZOFFSETFROM:+0100
TZOFFSETTO:+0000
TZNAME:GMT
DTSTART:20191027T010000
END:STANDARD
BEGIN:DAYLIGHT
TZOFFSETFROM:+0000
TZOFFSETTO:+0100
TZNAME:BST
DTSTART:20200329T010000
END:DAYLIGHT
BEGIN:STANDARD
TZOFFSETFROM:+0100
TZOFFSETTO:+0000
TZNAME:GMT
DTSTART:20201025T010000
END:STANDARD
BEGIN:DAYLIGHT
TZOFFSETFROM:+0000
TZOFFSETTO:+0100
TZNAME:BST
DTSTART:20210328T010000
END:DAYLIGHT
BEGIN:STANDARD
TZOFFSETFROM:+0100
TZOFFSETTO:+0000
TZNAME:GMT
DTSTART:20211031T010000
END:STANDARD
BEGIN:DAYLIGHT
TZOFFSETFROM:+0000
TZOFFSETTO:+0100
TZNAME:BST
DTSTART:20220327T010000
END:DAYLIGHT
BEGIN:STANDARD
TZOFFSETFROM:+0100
TZOFFSETTO:+0000
TZNAME:GMT
DTSTART:20221030T010000
END:STANDARD
BEGIN:DAYLIGHT
TZOFFSETFROM:+0000
TZOFFSETTO:+0100
TZNAME:BST
DTSTART:20230326T010000
END:DAYLIGHT
BEGIN:STANDARD
TZOFFSETFROM:+0100
TZOFFSETTO:+0000
TZNAME:GMT
DTSTART:20231029T010000
END:STANDARD
BEGIN:DAYLIGHT
TZOFFSETFROM:+0000
TZOFFSETTO:+0100
TZNAME:BST
DTSTART:20240331T010000
END:DAYLIGHT
BEGIN:STANDARD
TZOFFSETFROM:+0100
TZOFFSETTO:+0000
TZNAME:GMT
DTSTART:20241027T010000
END:STANDARD
BEGIN:DAYLIGHT
TZOFFSETFROM:+0000
TZOFFSETTO:+0100
TZNAME:BST
DTSTART:20250330T010000
END:DAYLIGHT
BEGIN:STANDARD
TZOFFSETFROM:+0100
TZOFFSETTO:+0000
TZNAME:GMT
DTSTART:20251026T010000
END:STANDARD
BEGIN:DAYLIGHT
TZOFFSETFROM:+0000
TZOFFSETTO:+0100
TZNAME:BST
DTSTART:20260329T010000
END:DAYLIGHT
BEGIN:STANDARD
TZOFFSETFROM:+0100
TZOFFSETTO:+0000
TZNAME:GMT
DTSTART:20261025T010000
END:STANDARD
BEGIN:DAYLIGHT
TZOFFSETFROM:+0000
TZOFFSETTO:+0100
TZNAME:BST
DTSTART:20270328T010000
END:DAYLIGHT
BEGIN:STANDARD
TZOFFSETFROM:+0100
TZOFFSETTO:+0000
TZNAME:GMT
DTSTART:20271031T010000
END:STANDARD
END:VTIMEZONE
BEGIN:VEVENT
DTSTART;TZID=Europe/London:20260303T193000
DTEND;TZID=Europe/London:20260303T203000
DTSTAMP:20260421T142946
CREATED:20260210T133335Z
LAST-MODIFIED:20260210T133335Z
UID:10003244-1772566200-1772569800@trurodiocese.org.uk
SUMMARY:O Radiant Dawn
DESCRIPTION:O Radiant Dawn with St Martin’s Voices\, directed by Andrew Earis. \n  \nTickets £15 (£10 Concessions).
URL:https://trurodiocese.org.uk/event/o-radiant-dawn/
LOCATION:St Petroc’s Church Bodmin\, Bodmin\, Cornwall\, United Kingdom
ATTACH;FMTTYPE=image/png:https://trurodiocese.org.uk/wp-content/uploads/2026/02/O-Radiant-Dawn-Bodmin-Poster.png
END:VEVENT
BEGIN:VEVENT
DTSTART;TZID=Europe/London:20210525T080000
DTEND;TZID=Europe/London:20210525T170000
DTSTAMP:20260421T142946
CREATED:20201217T101343Z
LAST-MODIFIED:20201217T101343Z
UID:10002954-1621929600-1621962000@trurodiocese.org.uk
SUMMARY:Meet the Funders Spring Event 2021
DESCRIPTION:For groups and projects looking for funding for social action\, outreach and community work in Cornwall. \nSave the date! (Bookings will open early January 2021) \nTuesday\, 25th May 2021 \nOur 2021 meet the funders spring event will take place on the 25th May 2021 at St Petroc’s Church in Bodmin. The day will include presentations from funders\, workshops\, market stalls from various groups\, and opportunities to network. The event will be hosted by the Bishop of St Germans\, the Rt. Revd Hugh Nelson. \nFor more information: \nEmail: info@transformation-cornwall.org.uk\nTelephone:  07485 476 598
URL:https://trurodiocese.org.uk/event/meet-the-funders-spring-event-2021/
LOCATION:St Petroc’s Church Bodmin\, Bodmin\, Cornwall\, United Kingdom
ORGANIZER;CN="Transformation Cornwall":MAILTO:info@transformation-cornwall.org.uk
END:VEVENT
BEGIN:VEVENT
DTSTART;TZID=Europe/London:20210523T160000
DTEND;TZID=Europe/London:20210523T190000
DTSTAMP:20260421T142946
CREATED:20210506T131109Z
LAST-MODIFIED:20210506T131229Z
UID:10002972-1621785600-1621796400@trurodiocese.org.uk
SUMMARY:Licensing of Kelly Betteridge as Archdeacon of Bodmin
DESCRIPTION:Not your average Archdeacon’s licensing! \nThe new Archdeacon of Bodmin\, Revd Kelly Betteridge\, will be licensed in unique style\, at a Pentecost celebration this month. The interactive\, all-age service will especially welcome children and young people\, and will be held at St Petroc’s Church\, Bodmin at 4pm on May 23. \nWe are asking all those attending to wear something red to the service and to bring on an A4 sheet of paper\, a drawing or a piece you have written about something worth celebrating in your church or community. Make it as brightly coloured as you can! \nMore details will be available on the diocesan website in the coming weeks including where you can watch the video if you cannot be there in person. \nTo reserve a space click here.
URL:https://trurodiocese.org.uk/event/licensing-of-kelly-betteridge-as-archdeacon-of-bodmin/
LOCATION:St Petroc’s Church Bodmin\, Bodmin\, Cornwall\, United Kingdom
END:VEVENT
BEGIN:VEVENT
DTSTART;TZID=Europe/London:20190616T180000
DTEND;TZID=Europe/London:20190616T190000
DTSTAMP:20260421T142946
CREATED:20190521T084051Z
LAST-MODIFIED:20190521T084051Z
UID:10002124-1560708000-1560711600@trurodiocese.org.uk
SUMMARY:Pentecost at St Petroc's Church Bodmin
DESCRIPTION:On Sunday 16th June from 6 – 7 pm\, Canon David White is speaking on the theme “Pentecost” at St. Petroc’s Church\, Bodmin.
URL:https://trurodiocese.org.uk/event/pentecost-at-st-petrocs-church-bodmin/
LOCATION:St Petroc’s Church Bodmin\, Bodmin\, Cornwall\, United Kingdom
END:VEVENT
BEGIN:VEVENT
DTSTART;TZID=Europe/London:20190220T140000
DTEND;TZID=Europe/London:20190220T160000
DTSTAMP:20260421T142946
CREATED:20190107T160457Z
LAST-MODIFIED:20190108T093128Z
UID:10002102-1550671200-1550678400@trurodiocese.org.uk
SUMMARY:Open The Book\, Celebrating 20 years
DESCRIPTION:Come along and help celebrate 20 years with Open The Book\, at St Petroc’s Church on Wednesday 20th February 2019\, from 2pm-4pm. \nTo book please either call 01793 418355 or email enquiries@openthebook.net  
URL:https://trurodiocese.org.uk/event/open-the-book-celebrating-20-years/
LOCATION:St Petroc’s Church Bodmin\, Bodmin\, Cornwall\, United Kingdom
END:VEVENT
BEGIN:VEVENT
DTSTART;TZID=Europe/London:20181017T100000
DTEND;TZID=Europe/London:20181017T130000
DTSTAMP:20260421T142946
CREATED:20181003T150013Z
LAST-MODIFIED:20181003T150013Z
UID:10002861-1539770400-1539781200@trurodiocese.org.uk
SUMMARY:Starting Rite workshop
DESCRIPTION:Interested in the spiritual nurture of babies and their parents? \nStarting Rite workshop With Jenny Paddison on Wednesday 17 October 2018 from 10am to 1pm at St Petroc’s Church\, Bodmin. \nStarting Rite enables local churches to offer welcome and support to all new parents and can be used as a baptism preparation course. \nTo book for this exciting opportunity to meet the creator of this programme please contact Sue Nicholas sue.nicholas@hotmail.co.uk \nFurther information can be found here.
URL:https://trurodiocese.org.uk/event/starting-rite-workshop/
LOCATION:St Petroc’s Church Bodmin\, Bodmin\, Cornwall\, United Kingdom
END:VEVENT
BEGIN:VEVENT
DTSTART;TZID=Europe/London:20161017T190000
DTEND;TZID=Europe/London:20161017T210000
DTSTAMP:20260421T142946
CREATED:20161007T090146Z
LAST-MODIFIED:20161010T100536Z
UID:10002648-1476730800-1476738000@trurodiocese.org.uk
SUMMARY:Roadshow 2016: Healthy\, Wealthy and Wise
DESCRIPTION:Healthy\, Wealthy and Wise: Thinking Christianly About Everyday Issues \nUnder the three topics we will be looking at a range of questions including (but not limited to) those below: \nWEALTH \n\nWhat makes a prosperous society? How should we measure prosperity?\nThe widening gap between rich and poor? Is it inevitable? Is it wrong?\nHow far do we go to encourage wealth-creation?\nWhat do we do about poverty? Does God have a “bias to the poor?”\nWhat’s the point of taxation?\n\nThe venue is: \nOctober 17                        St Petroc’s Church\, Priory Road\, Bodmin\, PL31 2DT \nEach Roadshow begins at 7pm and aims to end by 9pm. \n  \nClick here for the poster.
URL:https://trurodiocese.org.uk/event/roadshow-2016-healthy-wealthy-and-wise-2/
LOCATION:St Petroc’s Church Bodmin\, Bodmin\, Cornwall\, United Kingdom
END:VEVENT
END:VCALENDAR