BEGIN:VCALENDAR
VERSION:2.0
PRODID:-//Truro Diocese - ECPv6.15.15//NONSGML v1.0//EN
CALSCALE:GREGORIAN
METHOD:PUBLISH
X-ORIGINAL-URL:https://trurodiocese.org.uk
X-WR-CALDESC:Events for Truro Diocese
REFRESH-INTERVAL;VALUE=DURATION:PT1H
X-Robots-Tag:noindex
X-PUBLISHED-TTL:PT1H
BEGIN:VTIMEZONE
TZID:UTC
BEGIN:STANDARD
TZOFFSETFROM:+0000
TZOFFSETTO:+0000
TZNAME:UTC
DTSTART:20140101T000000
END:STANDARD
END:VTIMEZONE
BEGIN:VEVENT
DTSTART;TZID=UTC:20151213T121500
DTEND;TZID=UTC:20151213T150000
DTSTAMP:20260421T212026
CREATED:20151203T092524Z
LAST-MODIFIED:20151203T092524Z
UID:10002534-1450008900-1450018800@trurodiocese.org.uk
SUMMARY:Christmas workshop
DESCRIPTION:A time to capture the spirit of the inner child and be creative for Christmas. \nThe Christmas Workshop is being run by the artist Suzie Stephens\, at St. Peter’s Church\, Newlyn\, on Sunday 13th December. \nIt’s free all are welcome. \nThe workshop begins with a at 12.15 running on from the morning service.So come share a coffee and bring a sandwich to set you for an afternoon of fun. Stay as long as you wish and do as much as you desire.
URL:https://trurodiocese.org.uk/event/christmas-workshop/
LOCATION:St Peters Church Newlyn\, The Coombes\, Newlyn\, Cornwall\, TR18 5HT\, United Kingdom
END:VEVENT
END:VCALENDAR