BEGIN:VCALENDAR
VERSION:2.0
PRODID:-//Truro Diocese - ECPv6.15.15//NONSGML v1.0//EN
CALSCALE:GREGORIAN
METHOD:PUBLISH
X-WR-CALNAME:Truro Diocese
X-ORIGINAL-URL:https://trurodiocese.org.uk
X-WR-CALDESC:Events for Truro Diocese
REFRESH-INTERVAL;VALUE=DURATION:PT1H
X-Robots-Tag:noindex
X-PUBLISHED-TTL:PT1H
BEGIN:VTIMEZONE
TZID:Europe/London
BEGIN:DAYLIGHT
TZOFFSETFROM:+0000
TZOFFSETTO:+0100
TZNAME:BST
DTSTART:20140330T010000
END:DAYLIGHT
BEGIN:STANDARD
TZOFFSETFROM:+0100
TZOFFSETTO:+0000
TZNAME:GMT
DTSTART:20141026T010000
END:STANDARD
BEGIN:DAYLIGHT
TZOFFSETFROM:+0000
TZOFFSETTO:+0100
TZNAME:BST
DTSTART:20150329T010000
END:DAYLIGHT
BEGIN:STANDARD
TZOFFSETFROM:+0100
TZOFFSETTO:+0000
TZNAME:GMT
DTSTART:20151025T010000
END:STANDARD
BEGIN:DAYLIGHT
TZOFFSETFROM:+0000
TZOFFSETTO:+0100
TZNAME:BST
DTSTART:20160327T010000
END:DAYLIGHT
BEGIN:STANDARD
TZOFFSETFROM:+0100
TZOFFSETTO:+0000
TZNAME:GMT
DTSTART:20161030T010000
END:STANDARD
BEGIN:DAYLIGHT
TZOFFSETFROM:+0000
TZOFFSETTO:+0100
TZNAME:BST
DTSTART:20170326T010000
END:DAYLIGHT
BEGIN:STANDARD
TZOFFSETFROM:+0100
TZOFFSETTO:+0000
TZNAME:GMT
DTSTART:20171029T010000
END:STANDARD
END:VTIMEZONE
BEGIN:VEVENT
DTSTART;TZID=Europe/London:20161105T193000
DTEND;TZID=Europe/London:20161105T210000
DTSTAMP:20260422T030518
CREATED:20161006T135811Z
LAST-MODIFIED:20161006T135811Z
UID:10002644-1478374200-1478379600@trurodiocese.org.uk
SUMMARY:Mevagissey Male Choir
DESCRIPTION:Mevagissey Male Choir are performing at St Paul’s Church\, Charlestown on 5 November at 7.30pm. \nEntrance is £6 to include a glass of wine.
URL:https://trurodiocese.org.uk/event/mevagissey-male-choir/
LOCATION:St Paul’s Church\, Church Road\, Charlestown\, PL25 3NS\, United Kingdom
END:VEVENT
BEGIN:VEVENT
DTSTART;TZID=Europe/London:20161022T190000
DTEND;TZID=Europe/London:20161022T210000
DTSTAMP:20260422T030518
CREATED:20161006T135557Z
LAST-MODIFIED:20161006T135557Z
UID:10002643-1477162800-1477170000@trurodiocese.org.uk
SUMMARY:Quiz and Pasty Supper
DESCRIPTION:St Paul’s Church\, Charlestown are holding a Quiz and pasty supper evening on 22 October at 7pm in the church hall. \n£5 entry
URL:https://trurodiocese.org.uk/event/quiz-and-pasty-supper/
LOCATION:St Paul’s Church\, Church Road\, Charlestown\, PL25 3NS\, United Kingdom
END:VEVENT
BEGIN:VEVENT
DTSTART;TZID=Europe/London:20150715T100000
DTEND;TZID=Europe/London:20150719T160000
DTSTAMP:20260422T030518
CREATED:20150619T083642Z
LAST-MODIFIED:20150619T083642Z
UID:10002432-1436954400-1437321600@trurodiocese.org.uk
SUMMARY:Flower Festival
DESCRIPTION:St Paul’s Church\, Charlestown will hold their flower festival from Wednesday 15 July until Sunday 19 July.\nClick here for more details.
URL:https://trurodiocese.org.uk/event/flower-festival-2/
LOCATION:St Paul’s Church\, Church Road\, Charlestown\, PL25 3NS\, United Kingdom
END:VEVENT
END:VCALENDAR