BEGIN:VCALENDAR
VERSION:2.0
PRODID:-//Truro Diocese - ECPv6.15.15//NONSGML v1.0//EN
CALSCALE:GREGORIAN
METHOD:PUBLISH
X-ORIGINAL-URL:https://trurodiocese.org.uk
X-WR-CALDESC:Events for Truro Diocese
REFRESH-INTERVAL;VALUE=DURATION:PT1H
X-Robots-Tag:noindex
X-PUBLISHED-TTL:PT1H
BEGIN:VTIMEZONE
TZID:Europe/London
BEGIN:DAYLIGHT
TZOFFSETFROM:+0000
TZOFFSETTO:+0100
TZNAME:BST
DTSTART:20150329T010000
END:DAYLIGHT
BEGIN:STANDARD
TZOFFSETFROM:+0100
TZOFFSETTO:+0000
TZNAME:GMT
DTSTART:20151025T010000
END:STANDARD
BEGIN:DAYLIGHT
TZOFFSETFROM:+0000
TZOFFSETTO:+0100
TZNAME:BST
DTSTART:20160327T010000
END:DAYLIGHT
BEGIN:STANDARD
TZOFFSETFROM:+0100
TZOFFSETTO:+0000
TZNAME:GMT
DTSTART:20161030T010000
END:STANDARD
BEGIN:DAYLIGHT
TZOFFSETFROM:+0000
TZOFFSETTO:+0100
TZNAME:BST
DTSTART:20170326T010000
END:DAYLIGHT
BEGIN:STANDARD
TZOFFSETFROM:+0100
TZOFFSETTO:+0000
TZNAME:GMT
DTSTART:20171029T010000
END:STANDARD
END:VTIMEZONE
BEGIN:VEVENT
DTSTART;TZID=Europe/London:20161215T183000
DTEND;TZID=Europe/London:20161215T200000
DTSTAMP:20260422T231439
CREATED:20161109T111543Z
LAST-MODIFIED:20161109T111543Z
UID:10002657-1481826600-1481832000@trurodiocese.org.uk
SUMMARY:Christingle Service
DESCRIPTION:On Thursday 15th December at 6.30pm St Laudus’ church\, Mabe are holding a Candlelit Christingle service with pupils\, families and staff from Mabe Primary School\, all welcome! \nClick here for the poster.
URL:https://trurodiocese.org.uk/event/christingle-service-3/
LOCATION:St Laudus Church\, Mabe\, Church Lane\, Mabe Burnthouse\, Cornwall\, TR10 9JG\, United Kingdom
END:VEVENT
BEGIN:VEVENT
DTSTART;TZID=Europe/London:20161127T193000
DTEND;TZID=Europe/London:20161127T203000
DTSTAMP:20260422T231439
CREATED:20161109T110906Z
LAST-MODIFIED:20161109T110906Z
UID:10002656-1480275000-1480278600@trurodiocese.org.uk
SUMMARY:Sacred Space
DESCRIPTION:On Sunday November 27th at 7.30pm at St Laudu’s church\, Mabe are holding their monthly event Sacred Space\, an informal time of gathering together\, an oasis of calm in the busyness of life. \nFor the poster click here.
URL:https://trurodiocese.org.uk/event/sacred-space/
LOCATION:St Laudus Church\, Mabe\, Church Lane\, Mabe Burnthouse\, Cornwall\, TR10 9JG\, United Kingdom
END:VEVENT
BEGIN:VEVENT
DTSTART;TZID=Europe/London:20161127T180000
DTEND;TZID=Europe/London:20161127T200000
DTSTAMP:20260422T231439
CREATED:20161109T100135Z
LAST-MODIFIED:20161109T100135Z
UID:10002654-1480269600-1480276800@trurodiocese.org.uk
SUMMARY:A Candlelit Service for Advent
DESCRIPTION:On Sunday November 27th at 6pm at St Laudus’ church\, Mabe  are holding A Candlelit Service of Advent followed by mince pies and mulled wine. \nClick here for the poster.
URL:https://trurodiocese.org.uk/event/a-candlelit-service-for-advent/
LOCATION:St Laudus Church\, Mabe\, Church Lane\, Mabe Burnthouse\, Cornwall\, TR10 9JG\, United Kingdom
END:VEVENT
BEGIN:VEVENT
DTSTART;TZID=Europe/London:20160905T180000
DTEND;TZID=Europe/London:20160905T190000
DTSTAMP:20260422T231439
CREATED:20160825T103303Z
LAST-MODIFIED:20160825T103303Z
UID:10001852-1473098400-1473102000@trurodiocese.org.uk
SUMMARY:Democratising Cornish Culture in the Middle Ages: Glasney College and the Cornish Ordinalia
DESCRIPTION:Democratising Cornish Culture in the Middle Ages: Glasney College and the Cornish Ordinalia \nAn illustrated talk by Michelle P. Brown (Prof. Emerita\, Uni of London) \nA fascinating and lively insight into the spiritual\, scholarly and artistic life of Glasney college\, Penryn\, in Mediaeval Times \nTickets £5 on door including wine and nibbles \nIn aid of St Laudus Bell Tower Appeal Fund \nMonday 5th September 2016 6.00 pm\, St Laudus Church\, Mabe
URL:https://trurodiocese.org.uk/event/democratising-cornish-culture-in-the-middle-ages-glasney-college-and-the-cornish-ordinalia/
LOCATION:St Laudus Church\, Mabe\, Church Lane\, Mabe Burnthouse\, Cornwall\, TR10 9JG\, United Kingdom
END:VEVENT
END:VCALENDAR