BEGIN:VCALENDAR
VERSION:2.0
PRODID:-//Truro Diocese - ECPv6.15.15//NONSGML v1.0//EN
CALSCALE:GREGORIAN
METHOD:PUBLISH
X-WR-CALNAME:Truro Diocese
X-ORIGINAL-URL:https://trurodiocese.org.uk
X-WR-CALDESC:Events for Truro Diocese
REFRESH-INTERVAL;VALUE=DURATION:PT1H
X-Robots-Tag:noindex
X-PUBLISHED-TTL:PT1H
BEGIN:VTIMEZONE
TZID:Europe/London
BEGIN:DAYLIGHT
TZOFFSETFROM:+0000
TZOFFSETTO:+0100
TZNAME:BST
DTSTART:20170326T010000
END:DAYLIGHT
BEGIN:STANDARD
TZOFFSETFROM:+0100
TZOFFSETTO:+0000
TZNAME:GMT
DTSTART:20171029T010000
END:STANDARD
BEGIN:DAYLIGHT
TZOFFSETFROM:+0000
TZOFFSETTO:+0100
TZNAME:BST
DTSTART:20180325T010000
END:DAYLIGHT
BEGIN:STANDARD
TZOFFSETFROM:+0100
TZOFFSETTO:+0000
TZNAME:GMT
DTSTART:20181028T010000
END:STANDARD
BEGIN:DAYLIGHT
TZOFFSETFROM:+0000
TZOFFSETTO:+0100
TZNAME:BST
DTSTART:20190331T010000
END:DAYLIGHT
BEGIN:STANDARD
TZOFFSETFROM:+0100
TZOFFSETTO:+0000
TZNAME:GMT
DTSTART:20191027T010000
END:STANDARD
END:VTIMEZONE
BEGIN:VEVENT
DTSTART;VALUE=DATE:20181212
DTEND;VALUE=DATE:20181230
DTSTAMP:20260421T173920
CREATED:20181031T125555Z
LAST-MODIFIED:20181031T131504Z
UID:10002871-1544572800-1546127999@trurodiocese.org.uk
SUMMARY:Christmas Tree Festival
DESCRIPTION:St Gwinear Parish Church\, Christmas Tree Festival ‘Our favorite books’ . The festival will be from the 12th\, then 15th-23rd and the 27th-29th of December. Red River singers will entertain from 3:30pm on Wednesday the 12th.
URL:https://trurodiocese.org.uk/event/christmas-tree-festival-8/
LOCATION:St Gwinear Parish Church\, Churchtown\, TR27 5JZ\, United Kingdom
END:VEVENT
END:VCALENDAR