BEGIN:VCALENDAR
VERSION:2.0
PRODID:-//Truro Diocese - ECPv6.15.15//NONSGML v1.0//EN
CALSCALE:GREGORIAN
METHOD:PUBLISH
X-ORIGINAL-URL:https://trurodiocese.org.uk
X-WR-CALDESC:Events for Truro Diocese
REFRESH-INTERVAL;VALUE=DURATION:PT1H
X-Robots-Tag:noindex
X-PUBLISHED-TTL:PT1H
BEGIN:VTIMEZONE
TZID:Europe/London
BEGIN:DAYLIGHT
TZOFFSETFROM:+0000
TZOFFSETTO:+0100
TZNAME:BST
DTSTART:20140330T010000
END:DAYLIGHT
BEGIN:STANDARD
TZOFFSETFROM:+0100
TZOFFSETTO:+0000
TZNAME:GMT
DTSTART:20141026T010000
END:STANDARD
BEGIN:DAYLIGHT
TZOFFSETFROM:+0000
TZOFFSETTO:+0100
TZNAME:BST
DTSTART:20150329T010000
END:DAYLIGHT
BEGIN:STANDARD
TZOFFSETFROM:+0100
TZOFFSETTO:+0000
TZNAME:GMT
DTSTART:20151025T010000
END:STANDARD
BEGIN:DAYLIGHT
TZOFFSETFROM:+0000
TZOFFSETTO:+0100
TZNAME:BST
DTSTART:20160327T010000
END:DAYLIGHT
BEGIN:STANDARD
TZOFFSETFROM:+0100
TZOFFSETTO:+0000
TZNAME:GMT
DTSTART:20161030T010000
END:STANDARD
BEGIN:DAYLIGHT
TZOFFSETFROM:+0000
TZOFFSETTO:+0100
TZNAME:BST
DTSTART:20170326T010000
END:DAYLIGHT
BEGIN:STANDARD
TZOFFSETFROM:+0100
TZOFFSETTO:+0000
TZNAME:GMT
DTSTART:20171029T010000
END:STANDARD
BEGIN:DAYLIGHT
TZOFFSETFROM:+0000
TZOFFSETTO:+0100
TZNAME:BST
DTSTART:20180325T010000
END:DAYLIGHT
BEGIN:STANDARD
TZOFFSETFROM:+0100
TZOFFSETTO:+0000
TZNAME:GMT
DTSTART:20181028T010000
END:STANDARD
BEGIN:DAYLIGHT
TZOFFSETFROM:+0000
TZOFFSETTO:+0100
TZNAME:BST
DTSTART:20190331T010000
END:DAYLIGHT
BEGIN:STANDARD
TZOFFSETFROM:+0100
TZOFFSETTO:+0000
TZNAME:GMT
DTSTART:20191027T010000
END:STANDARD
BEGIN:DAYLIGHT
TZOFFSETFROM:+0000
TZOFFSETTO:+0100
TZNAME:BST
DTSTART:20200329T010000
END:DAYLIGHT
BEGIN:STANDARD
TZOFFSETFROM:+0100
TZOFFSETTO:+0000
TZNAME:GMT
DTSTART:20201025T010000
END:STANDARD
BEGIN:DAYLIGHT
TZOFFSETFROM:+0000
TZOFFSETTO:+0100
TZNAME:BST
DTSTART:20210328T010000
END:DAYLIGHT
BEGIN:STANDARD
TZOFFSETFROM:+0100
TZOFFSETTO:+0000
TZNAME:GMT
DTSTART:20211031T010000
END:STANDARD
BEGIN:DAYLIGHT
TZOFFSETFROM:+0000
TZOFFSETTO:+0100
TZNAME:BST
DTSTART:20220327T010000
END:DAYLIGHT
BEGIN:STANDARD
TZOFFSETFROM:+0100
TZOFFSETTO:+0000
TZNAME:GMT
DTSTART:20221030T010000
END:STANDARD
BEGIN:DAYLIGHT
TZOFFSETFROM:+0000
TZOFFSETTO:+0100
TZNAME:BST
DTSTART:20230326T010000
END:DAYLIGHT
BEGIN:STANDARD
TZOFFSETFROM:+0100
TZOFFSETTO:+0000
TZNAME:GMT
DTSTART:20231029T010000
END:STANDARD
END:VTIMEZONE
BEGIN:VEVENT
DTSTART;TZID=Europe/London:20220916T100000
DTEND;TZID=Europe/London:20220918T170000
DTSTAMP:20260422T212240
CREATED:20220823T081234Z
LAST-MODIFIED:20220823T081234Z
UID:10002233-1663322400-1663520400@trurodiocese.org.uk
SUMMARY:Flower Festival and Fair
DESCRIPTION:Friday and Saturday \n\nCakes and Plant Stalls and children’s games\nPasties\, teas\, coffees\, soft drinks in the Old School Rooms\n\nSaturday \n\nBell ringing\, Ukulele and Organ music\n7.00 pm Pelynt Male Choir\n\nSunday \n\n10.15 am Family Praise
URL:https://trurodiocese.org.uk/event/flower-festival-and-fair/
LOCATION:St Goran Church\, Gorran Churchtown\, PL26 6HW\, United Kingdom
END:VEVENT
BEGIN:VEVENT
DTSTART;TZID=Europe/London:20180528T100000
DTEND;TZID=Europe/London:20180601T000000
DTSTAMP:20260422T212240
CREATED:20180411T102419Z
LAST-MODIFIED:20180411T102419Z
UID:10002037-1527501600-1527811200@trurodiocese.org.uk
SUMMARY:Gorran Parish Spring Bank Holiday Walks
DESCRIPTION:Gorran Parish Spring Bank Holiday Walks \nMay 28 – June 1 \nMeet The Old School Rooms (Monday/ Wednesday/ Friday)\, 10am \nMeet Coast Path Cafe (Tuesday/ Thursday).
URL:https://trurodiocese.org.uk/event/gorran-parish-spring-bank-holiday-walks/
LOCATION:St Goran Church\, Gorran Churchtown\, PL26 6HW\, United Kingdom
END:VEVENT
BEGIN:VEVENT
DTSTART;TZID=Europe/London:20171203T180000
DTEND;TZID=Europe/London:20171203T200000
DTSTAMP:20260422T212240
CREATED:20171102T095402Z
LAST-MODIFIED:20171102T095933Z
UID:10002798-1512324000-1512331200@trurodiocese.org.uk
SUMMARY:Concert of seasonal music
DESCRIPTION:Mevagissey Ladies Choir – concert of seasonal music \nSt Goran Church \n6pm \nRetiring collection in aid of Mount Edgecumbe Hospice
URL:https://trurodiocese.org.uk/event/concert-of-seasonal-music/
LOCATION:St Goran Church\, Gorran Churchtown\, PL26 6HW\, United Kingdom
END:VEVENT
BEGIN:VEVENT
DTSTART;TZID=Europe/London:20160909T170000
DTEND;TZID=Europe/London:20160909T190000
DTSTAMP:20260422T212240
CREATED:20160817T090103Z
LAST-MODIFIED:20160817T090103Z
UID:10001851-1473440400-1473447600@trurodiocese.org.uk
SUMMARY:St. Goran Church opening of new church rooms with Bishop Tim
DESCRIPTION:Come and join Bishop Tim on 9th September at St Goran Church\, to celebrate the opening of the new church rooms. \nDoors open 5pm with service at 6pm. \n 
URL:https://trurodiocese.org.uk/event/st-goran-church-opening-of-new-church-rooms-with-bishop-tim/
LOCATION:St Goran Church\, Gorran Churchtown\, PL26 6HW\, United Kingdom
END:VEVENT
BEGIN:VEVENT
DTSTART;VALUE=DATE:20150807
DTEND;VALUE=DATE:20150809
DTSTAMP:20260422T212240
CREATED:20150715T082748Z
LAST-MODIFIED:20150715T082748Z
UID:10002438-1438905600-1439078399@trurodiocese.org.uk
SUMMARY:24 Hour Bible Reading
DESCRIPTION:On Friday 7 August until Saturday 8 August a 24 hour bible reading event will take place. The Revd Dr Christopher Newell will read all 150 Psalms and the New Testament non-stop (except for 5 min comfort breaks) in aid of the West End Community Project at St Goran Church. \nTo sponsor the event call Revd Dr Christopher Newell on 01726 844195 or come along to St Goran Church and have a listen to the reading on the 7th August.
URL:https://trurodiocese.org.uk/event/24-hour-bible-reading/
LOCATION:St Goran Church\, Gorran Churchtown\, PL26 6HW\, United Kingdom
END:VEVENT
END:VCALENDAR