BEGIN:VCALENDAR
VERSION:2.0
PRODID:-//Truro Diocese - ECPv6.15.15//NONSGML v1.0//EN
CALSCALE:GREGORIAN
METHOD:PUBLISH
X-WR-CALNAME:Truro Diocese
X-ORIGINAL-URL:https://trurodiocese.org.uk
X-WR-CALDESC:Events for Truro Diocese
REFRESH-INTERVAL;VALUE=DURATION:PT1H
X-Robots-Tag:noindex
X-PUBLISHED-TTL:PT1H
BEGIN:VTIMEZONE
TZID:Europe/London
BEGIN:DAYLIGHT
TZOFFSETFROM:+0000
TZOFFSETTO:+0100
TZNAME:BST
DTSTART:20160327T010000
END:DAYLIGHT
BEGIN:STANDARD
TZOFFSETFROM:+0100
TZOFFSETTO:+0000
TZNAME:GMT
DTSTART:20161030T010000
END:STANDARD
BEGIN:DAYLIGHT
TZOFFSETFROM:+0000
TZOFFSETTO:+0100
TZNAME:BST
DTSTART:20170326T010000
END:DAYLIGHT
BEGIN:STANDARD
TZOFFSETFROM:+0100
TZOFFSETTO:+0000
TZNAME:GMT
DTSTART:20171029T010000
END:STANDARD
BEGIN:DAYLIGHT
TZOFFSETFROM:+0000
TZOFFSETTO:+0100
TZNAME:BST
DTSTART:20180325T010000
END:DAYLIGHT
BEGIN:STANDARD
TZOFFSETFROM:+0100
TZOFFSETTO:+0000
TZNAME:GMT
DTSTART:20181028T010000
END:STANDARD
END:VTIMEZONE
BEGIN:VEVENT
DTSTART;VALUE=DATE:20170526
DTEND;VALUE=DATE:20170529
DTSTAMP:20260421T035207
CREATED:20170419T123739Z
LAST-MODIFIED:20170419T130538Z
UID:10001954-1495756800-1496015999@trurodiocese.org.uk
SUMMARY:St Feock Flower Festival
DESCRIPTION:St Feock’s Flower Festival \nThe festival will be run from the 26th of May through to the 29th of May; \n\n26th May – 10:00am-16:00pm\n27th May – 10:00am-16:00pm\n28th May – 11:00am-16:00pm\n29th May – 10:00am-16:00pm\n\nThe theme of the Flower Festival will be a ‘Celebration of Weddings’ and as well as floral designs there will be a display of wedding dresses. Coffee\, lunch and afternoon tea will be available in the Church Community Hall. \n  \n \n  \n 
URL:https://trurodiocese.org.uk/event/st-feock-flower-festival/
LOCATION:St Feock Church\, Feock\, Truro\, TR3 6SA\, United Kingdom
END:VEVENT
END:VCALENDAR