BEGIN:VCALENDAR
VERSION:2.0
PRODID:-//Truro Diocese - ECPv6.15.15//NONSGML v1.0//EN
CALSCALE:GREGORIAN
METHOD:PUBLISH
X-WR-CALNAME:Truro Diocese
X-ORIGINAL-URL:https://trurodiocese.org.uk
X-WR-CALDESC:Events for Truro Diocese
REFRESH-INTERVAL;VALUE=DURATION:PT1H
X-Robots-Tag:noindex
X-PUBLISHED-TTL:PT1H
BEGIN:VTIMEZONE
TZID:Europe/London
BEGIN:DAYLIGHT
TZOFFSETFROM:+0000
TZOFFSETTO:+0100
TZNAME:BST
DTSTART:20150329T010000
END:DAYLIGHT
BEGIN:STANDARD
TZOFFSETFROM:+0100
TZOFFSETTO:+0000
TZNAME:GMT
DTSTART:20151025T010000
END:STANDARD
BEGIN:DAYLIGHT
TZOFFSETFROM:+0000
TZOFFSETTO:+0100
TZNAME:BST
DTSTART:20160327T010000
END:DAYLIGHT
BEGIN:STANDARD
TZOFFSETFROM:+0100
TZOFFSETTO:+0000
TZNAME:GMT
DTSTART:20161030T010000
END:STANDARD
BEGIN:DAYLIGHT
TZOFFSETFROM:+0000
TZOFFSETTO:+0100
TZNAME:BST
DTSTART:20170326T010000
END:DAYLIGHT
BEGIN:STANDARD
TZOFFSETFROM:+0100
TZOFFSETTO:+0000
TZNAME:GMT
DTSTART:20171029T010000
END:STANDARD
BEGIN:DAYLIGHT
TZOFFSETFROM:+0000
TZOFFSETTO:+0100
TZNAME:BST
DTSTART:20180325T010000
END:DAYLIGHT
BEGIN:STANDARD
TZOFFSETFROM:+0100
TZOFFSETTO:+0000
TZNAME:GMT
DTSTART:20181028T010000
END:STANDARD
BEGIN:DAYLIGHT
TZOFFSETFROM:+0000
TZOFFSETTO:+0100
TZNAME:BST
DTSTART:20190331T010000
END:DAYLIGHT
BEGIN:STANDARD
TZOFFSETFROM:+0100
TZOFFSETTO:+0000
TZNAME:GMT
DTSTART:20191027T010000
END:STANDARD
BEGIN:DAYLIGHT
TZOFFSETFROM:+0000
TZOFFSETTO:+0100
TZNAME:BST
DTSTART:20200329T010000
END:DAYLIGHT
BEGIN:STANDARD
TZOFFSETFROM:+0100
TZOFFSETTO:+0000
TZNAME:GMT
DTSTART:20201025T010000
END:STANDARD
END:VTIMEZONE
BEGIN:VEVENT
DTSTART;TZID=Europe/London:20190123T180000
DTEND;TZID=Europe/London:20190123T200000
DTSTAMP:20260423T040741
CREATED:20181212T100535Z
LAST-MODIFIED:20181212T101014Z
UID:10002881-1548266400-1548273600@trurodiocese.org.uk
SUMMARY:'The Spirituality of Ecology'
DESCRIPTION:‘The Spirituality of Ecology’ a seminar with Revd Dr Lucy Larkin. Held on the 23rd of January\, 6-8pm. The seminar is open to all staff\, students and the general public and it is free entry. Please register here.
URL:https://trurodiocese.org.uk/event/the-spirituality-of-ecology/
LOCATION:Penryn University Campus\, Treliever Road\, Penryn\, Cornwall\, TR10 9FE\, United Kingdom
END:VEVENT
BEGIN:VEVENT
DTSTART;TZID=Europe/London:20160629T093000
DTEND;TZID=Europe/London:20160629T151500
DTSTAMP:20260423T040741
CREATED:20160601T110620Z
LAST-MODIFIED:20160601T110620Z
UID:10002590-1467192600-1467213300@trurodiocese.org.uk
SUMMARY:Educational Chaplaincy
DESCRIPTION:A conference for chaplains* who work in an educational setting in Cornwall. An opportunity to meet with others engaged in this vital ministry in our schools\, colleges and universities. Keynote by Ben Ryan of Theos Think Tank\, author of “Chaplaincy: A Very Modern Ministry” and workshops on a variety of topics. \n\n\n \n\n \n \n\n\n\n\nThe conference is free and a pasty lunch provided. \n*All chaplains whether paid\, volunteer\, lay or ordained are welcome as are other staff who manage chaplains \nTo book a place\, click here.
URL:https://trurodiocese.org.uk/event/educational-chaplaincy/
LOCATION:Penryn University Campus\, Treliever Road\, Penryn\, Cornwall\, TR10 9FE\, United Kingdom
END:VEVENT
END:VCALENDAR