BEGIN:VCALENDAR
VERSION:2.0
PRODID:-//Truro Diocese - ECPv6.15.15//NONSGML v1.0//EN
CALSCALE:GREGORIAN
METHOD:PUBLISH
X-WR-CALNAME:Truro Diocese
X-ORIGINAL-URL:https://trurodiocese.org.uk
X-WR-CALDESC:Events for Truro Diocese
REFRESH-INTERVAL;VALUE=DURATION:PT1H
X-Robots-Tag:noindex
X-PUBLISHED-TTL:PT1H
BEGIN:VTIMEZONE
TZID:Europe/London
BEGIN:DAYLIGHT
TZOFFSETFROM:+0000
TZOFFSETTO:+0100
TZNAME:BST
DTSTART:20140330T010000
END:DAYLIGHT
BEGIN:STANDARD
TZOFFSETFROM:+0100
TZOFFSETTO:+0000
TZNAME:GMT
DTSTART:20141026T010000
END:STANDARD
BEGIN:DAYLIGHT
TZOFFSETFROM:+0000
TZOFFSETTO:+0100
TZNAME:BST
DTSTART:20150329T010000
END:DAYLIGHT
BEGIN:STANDARD
TZOFFSETFROM:+0100
TZOFFSETTO:+0000
TZNAME:GMT
DTSTART:20151025T010000
END:STANDARD
BEGIN:DAYLIGHT
TZOFFSETFROM:+0000
TZOFFSETTO:+0100
TZNAME:BST
DTSTART:20160327T010000
END:DAYLIGHT
BEGIN:STANDARD
TZOFFSETFROM:+0100
TZOFFSETTO:+0000
TZNAME:GMT
DTSTART:20161030T010000
END:STANDARD
BEGIN:DAYLIGHT
TZOFFSETFROM:+0000
TZOFFSETTO:+0100
TZNAME:BST
DTSTART:20170326T010000
END:DAYLIGHT
BEGIN:STANDARD
TZOFFSETFROM:+0100
TZOFFSETTO:+0000
TZNAME:GMT
DTSTART:20171029T010000
END:STANDARD
BEGIN:DAYLIGHT
TZOFFSETFROM:+0000
TZOFFSETTO:+0100
TZNAME:BST
DTSTART:20180325T010000
END:DAYLIGHT
BEGIN:STANDARD
TZOFFSETFROM:+0100
TZOFFSETTO:+0000
TZNAME:GMT
DTSTART:20181028T010000
END:STANDARD
BEGIN:DAYLIGHT
TZOFFSETFROM:+0000
TZOFFSETTO:+0100
TZNAME:BST
DTSTART:20190331T010000
END:DAYLIGHT
BEGIN:STANDARD
TZOFFSETFROM:+0100
TZOFFSETTO:+0000
TZNAME:GMT
DTSTART:20191027T010000
END:STANDARD
BEGIN:DAYLIGHT
TZOFFSETFROM:+0000
TZOFFSETTO:+0100
TZNAME:BST
DTSTART:20200329T010000
END:DAYLIGHT
BEGIN:STANDARD
TZOFFSETFROM:+0100
TZOFFSETTO:+0000
TZNAME:GMT
DTSTART:20201025T010000
END:STANDARD
END:VTIMEZONE
BEGIN:VEVENT
DTSTART;TZID=Europe/London:20190105T190000
DTEND;TZID=Europe/London:20190105T190000
DTSTAMP:20260422T225023
CREATED:20181224T101458Z
LAST-MODIFIED:20181224T103322Z
UID:10002100-1546714800-1546714800@trurodiocese.org.uk
SUMMARY:Folk-Carol Concert
DESCRIPTION:Folk-Carol Concert at Paul Church\, Penzance on Saturday 5th of January\, 7pm. The concert is free but a collection will be taken for the Humanitarian Aid Relief Trust whose founder\, Baroness Caroline Cox\, will also be at the event to describe her work helping refugees and victims of modern slavery in Sudan\, Nigeria\, Myanmar and Syria. \n‘She is a pioneer in the field of modern slavery and has risked her life countless times to rescue women and girls from slavery in Africa (plus her amazing NGO work in Sudan\, South Sudan\, Myanmar and Syria).’
URL:https://trurodiocese.org.uk/event/folk-carol-concert/
LOCATION:Paul Church\, Mousehole Lane\, Paul\, TR19 6UA\, United Kingdom
END:VEVENT
BEGIN:VEVENT
DTSTART;TZID=Europe/London:20151013T193000
DTEND;TZID=Europe/London:20151013T210000
DTSTAMP:20260422T225023
CREATED:20150806T091552Z
LAST-MODIFIED:20150806T091552Z
UID:10002450-1444764600-1444770000@trurodiocese.org.uk
SUMMARY:A Lecture on 'Royal National Lifeboat Institution'
DESCRIPTION:  \nThe sixth and last of the 2015 series of East Window fund raising lectures will be held in Paul Church at 7.30 on Tuesday 13th October. \nEntitled simply RNLI – Royal National Lifeboat Institution\, it will be given by Martin Brockman\, whose father was lost in the Penlee Lifeboat disaster. Martin’s talk will cover the history of the RNLI in and around Mousehole and Newlyn\, and will make reference to the Penlee disaster itself. \nA £5.00 ticket\, available at the door\, includes a glass of wine and nibbles. Following his talk\, Martin will be pleased to answer any questions. This informal post lecture gathering for conversation between audience and speaker has over the summer proved to be a really enjoyable part of the evening’s entertainment. \nThere are more topics of interest\, both local and further afield\, which we will be exploring during next year’s lecture series – so watch/listen to this space! \nClick here for the poster. \n 
URL:https://trurodiocese.org.uk/event/a-lecture-on-royal-national-lifeboat-institution/
LOCATION:Paul Church\, Mousehole Lane\, Paul\, TR19 6UA\, United Kingdom
END:VEVENT
BEGIN:VEVENT
DTSTART;TZID=Europe/London:20150929T193000
DTEND;TZID=Europe/London:20150929T210000
DTSTAMP:20260422T225023
CREATED:20150806T090916Z
LAST-MODIFIED:20150806T090916Z
UID:10002449-1443555000-1443560400@trurodiocese.org.uk
SUMMARY:A lecture on 'Seals'
DESCRIPTION:Paul Church will be holding a series of lectures during the summer to raise funds for repairs to the east window. \nOn Tuesday 29th September a lecture on ‘Seals’ with Sue Sayer. \nClick here for more details.
URL:https://trurodiocese.org.uk/event/a-lecture-on-seals/
LOCATION:Paul Church\, Mousehole Lane\, Paul\, TR19 6UA\, United Kingdom
END:VEVENT
BEGIN:VEVENT
DTSTART;TZID=Europe/London:20150829T193000
DTEND;TZID=Europe/London:20150829T210000
DTSTAMP:20260422T225023
CREATED:20150826T130238Z
LAST-MODIFIED:20150826T130238Z
UID:10001674-1440876600-1440882000@trurodiocese.org.uk
SUMMARY:Music for a Summer Evening
DESCRIPTION:In aid of the East Window Restoration Project at Paul Church ‘Music for a Summer Evening‘ will be held on Saturday 29 August from 7.30pm. \nClick here for more details.
URL:https://trurodiocese.org.uk/event/music-for-a-summer-evening/
LOCATION:Paul Church\, Mousehole Lane\, Paul\, TR19 6UA\, United Kingdom
END:VEVENT
BEGIN:VEVENT
DTSTART;TZID=Europe/London:20150818T193000
DTEND;TZID=Europe/London:20150818T210000
DTSTAMP:20260422T225023
CREATED:20150806T085900Z
LAST-MODIFIED:20150806T085900Z
UID:10002448-1439926200-1439931600@trurodiocese.org.uk
SUMMARY:A Lecture on 'Trewidden Gardens and West Penwith Horticulture'
DESCRIPTION:Paul Church will be holding a series of lectures during the summer to raise funds for repairs to the east window. \nOn Tuesday 18th August a lecture on ‘Trewidden Gardens and West Penwith Horticulture’ with Richard Morton\, Head Gardener. \nClick here for more details.
URL:https://trurodiocese.org.uk/event/a-lecture-on-botallack-mine/
LOCATION:Paul Church\, Mousehole Lane\, Paul\, TR19 6UA\, United Kingdom
END:VEVENT
END:VCALENDAR