BEGIN:VCALENDAR
VERSION:2.0
PRODID:-//Truro Diocese - ECPv6.15.15//NONSGML v1.0//EN
CALSCALE:GREGORIAN
METHOD:PUBLISH
X-ORIGINAL-URL:https://trurodiocese.org.uk
X-WR-CALDESC:Events for Truro Diocese
REFRESH-INTERVAL;VALUE=DURATION:PT1H
X-Robots-Tag:noindex
X-PUBLISHED-TTL:PT1H
BEGIN:VTIMEZONE
TZID:Europe/London
BEGIN:DAYLIGHT
TZOFFSETFROM:+0000
TZOFFSETTO:+0100
TZNAME:BST
DTSTART:20240331T010000
END:DAYLIGHT
BEGIN:STANDARD
TZOFFSETFROM:+0100
TZOFFSETTO:+0000
TZNAME:GMT
DTSTART:20241027T010000
END:STANDARD
BEGIN:DAYLIGHT
TZOFFSETFROM:+0000
TZOFFSETTO:+0100
TZNAME:BST
DTSTART:20250330T010000
END:DAYLIGHT
BEGIN:STANDARD
TZOFFSETFROM:+0100
TZOFFSETTO:+0000
TZNAME:GMT
DTSTART:20251026T010000
END:STANDARD
BEGIN:DAYLIGHT
TZOFFSETFROM:+0000
TZOFFSETTO:+0100
TZNAME:BST
DTSTART:20260329T010000
END:DAYLIGHT
BEGIN:STANDARD
TZOFFSETFROM:+0100
TZOFFSETTO:+0000
TZNAME:GMT
DTSTART:20261025T010000
END:STANDARD
END:VTIMEZONE
BEGIN:VEVENT
DTSTART;TZID=Europe/London:20250622T150000
DTEND;TZID=Europe/London:20250622T160000
DTSTAMP:20260420T112716
CREATED:20250520T125142Z
LAST-MODIFIED:20250520T125142Z
UID:10003210-1750604400-1750608000@trurodiocese.org.uk
SUMMARY:Port Isaac Chorale - Afternoon concert
DESCRIPTION:Afternoon concert at North Petherwin Parish Church. \nA mixed voice choir in concert to be followed by refreshments\nCollection for Tremaine Parish Church roof fund.
URL:https://trurodiocese.org.uk/event/port-isaac-chorale-afternoon-concert/
LOCATION:North Petherwin\, PL15 8LR.
ATTACH;FMTTYPE=image/gif:https://trurodiocese.org.uk/wp-content/uploads/2025/05/Concert.gif
END:VEVENT
END:VCALENDAR