BEGIN:VCALENDAR
VERSION:2.0
PRODID:-//Truro Diocese - ECPv6.15.15//NONSGML v1.0//EN
CALSCALE:GREGORIAN
METHOD:PUBLISH
X-ORIGINAL-URL:https://trurodiocese.org.uk
X-WR-CALDESC:Events for Truro Diocese
REFRESH-INTERVAL;VALUE=DURATION:PT1H
X-Robots-Tag:noindex
X-PUBLISHED-TTL:PT1H
BEGIN:VTIMEZONE
TZID:Europe/London
BEGIN:DAYLIGHT
TZOFFSETFROM:+0000
TZOFFSETTO:+0100
TZNAME:BST
DTSTART:20140330T010000
END:DAYLIGHT
BEGIN:STANDARD
TZOFFSETFROM:+0100
TZOFFSETTO:+0000
TZNAME:GMT
DTSTART:20141026T010000
END:STANDARD
BEGIN:DAYLIGHT
TZOFFSETFROM:+0000
TZOFFSETTO:+0100
TZNAME:BST
DTSTART:20150329T010000
END:DAYLIGHT
BEGIN:STANDARD
TZOFFSETFROM:+0100
TZOFFSETTO:+0000
TZNAME:GMT
DTSTART:20151025T010000
END:STANDARD
BEGIN:DAYLIGHT
TZOFFSETFROM:+0000
TZOFFSETTO:+0100
TZNAME:BST
DTSTART:20160327T010000
END:DAYLIGHT
BEGIN:STANDARD
TZOFFSETFROM:+0100
TZOFFSETTO:+0000
TZNAME:GMT
DTSTART:20161030T010000
END:STANDARD
END:VTIMEZONE
BEGIN:VEVENT
DTSTART;TZID=Europe/London:20150829T100000
DTEND;TZID=Europe/London:20150831T160000
DTSTAMP:20260421T224433
CREATED:20150817T114835Z
LAST-MODIFIED:20150817T114835Z
UID:10001670-1440842400-1441036800@trurodiocese.org.uk
SUMMARY:The Colours of the Church Seasons
DESCRIPTION:A rare display of church vestments\, enhanced by floral arrangements\, will be on view at Maker Church over the August Bank Holiday weekend. \nEntitled ‘The Colours of the Church Seasons’ the exhibition at St. Mary and St. Julian\, the parish church of Kingsand & Cawsand on the Rame Peninsula\, is being held to raise funds towards its restoration appeal. \nThe exhibition runs for three days 29th-31st August between 10am-4pm. Admission is free\, everyone is welcome and refreshments will be on sale. \nClick here for more details.
URL:https://trurodiocese.org.uk/event/the-colours-of-the-church-seasons/
LOCATION:Maker Church\, Milbrook \, PL10 1JB\, United Kingdom
END:VEVENT
END:VCALENDAR