BEGIN:VCALENDAR
VERSION:2.0
PRODID:-//Truro Diocese - ECPv6.15.15//NONSGML v1.0//EN
CALSCALE:GREGORIAN
METHOD:PUBLISH
X-WR-CALNAME:Truro Diocese
X-ORIGINAL-URL:https://trurodiocese.org.uk
X-WR-CALDESC:Events for Truro Diocese
REFRESH-INTERVAL;VALUE=DURATION:PT1H
X-Robots-Tag:noindex
X-PUBLISHED-TTL:PT1H
BEGIN:VTIMEZONE
TZID:Europe/London
BEGIN:DAYLIGHT
TZOFFSETFROM:+0000
TZOFFSETTO:+0100
TZNAME:BST
DTSTART:20140330T010000
END:DAYLIGHT
BEGIN:STANDARD
TZOFFSETFROM:+0100
TZOFFSETTO:+0000
TZNAME:GMT
DTSTART:20141026T010000
END:STANDARD
BEGIN:DAYLIGHT
TZOFFSETFROM:+0000
TZOFFSETTO:+0100
TZNAME:BST
DTSTART:20150329T010000
END:DAYLIGHT
BEGIN:STANDARD
TZOFFSETFROM:+0100
TZOFFSETTO:+0000
TZNAME:GMT
DTSTART:20151025T010000
END:STANDARD
BEGIN:DAYLIGHT
TZOFFSETFROM:+0000
TZOFFSETTO:+0100
TZNAME:BST
DTSTART:20160327T010000
END:DAYLIGHT
BEGIN:STANDARD
TZOFFSETFROM:+0100
TZOFFSETTO:+0000
TZNAME:GMT
DTSTART:20161030T010000
END:STANDARD
BEGIN:DAYLIGHT
TZOFFSETFROM:+0000
TZOFFSETTO:+0100
TZNAME:BST
DTSTART:20170326T010000
END:DAYLIGHT
BEGIN:STANDARD
TZOFFSETFROM:+0100
TZOFFSETTO:+0000
TZNAME:GMT
DTSTART:20171029T010000
END:STANDARD
BEGIN:DAYLIGHT
TZOFFSETFROM:+0000
TZOFFSETTO:+0100
TZNAME:BST
DTSTART:20180325T010000
END:DAYLIGHT
BEGIN:STANDARD
TZOFFSETFROM:+0100
TZOFFSETTO:+0000
TZNAME:GMT
DTSTART:20181028T010000
END:STANDARD
BEGIN:DAYLIGHT
TZOFFSETFROM:+0000
TZOFFSETTO:+0100
TZNAME:BST
DTSTART:20190331T010000
END:DAYLIGHT
BEGIN:STANDARD
TZOFFSETFROM:+0100
TZOFFSETTO:+0000
TZNAME:GMT
DTSTART:20191027T010000
END:STANDARD
BEGIN:DAYLIGHT
TZOFFSETFROM:+0000
TZOFFSETTO:+0100
TZNAME:BST
DTSTART:20200329T010000
END:DAYLIGHT
BEGIN:STANDARD
TZOFFSETFROM:+0100
TZOFFSETTO:+0000
TZNAME:GMT
DTSTART:20201025T010000
END:STANDARD
END:VTIMEZONE
BEGIN:VEVENT
DTSTART;TZID=Europe/London:20190908T150000
DTEND;TZID=Europe/London:20190908T150000
DTSTAMP:20260422T182212
CREATED:20190716T153047Z
LAST-MODIFIED:20190717T095224Z
UID:10002134-1567954800-1567954800@trurodiocese.org.uk
SUMMARY:Ladock Church Windows Talk by Michael Swift
DESCRIPTION:Join us at Ladock Church for a talk by Michael Swift on Ladock’s stained glass. To be held on the 8th of September\, at 3pm. \nTickets are £5 per head to include tea. The proceeds will be shared between Ladock PCC and Cornwall Historic Churches Trust. This event will coincide with the Cornwall Historic Churches Day. \n \n 
URL:https://trurodiocese.org.uk/event/talk-by-michael-swift-on-ladocks-stained-glass/
LOCATION:Ladock Church\, St Ladoca\, Ladock\, TR2 4PL\, United Kingdom
END:VEVENT
BEGIN:VEVENT
DTSTART;VALUE=DATE:20150801
DTEND;VALUE=DATE:20150803
DTSTAMP:20260422T182212
CREATED:20150619T084221Z
LAST-MODIFIED:20150619T084221Z
UID:10001647-1438387200-1438559999@trurodiocese.org.uk
SUMMARY:Ladock Flower Festival
DESCRIPTION:A flower festival will be held at Ladock Church from Saturday 1 August.\nClick here for the poster and more information.
URL:https://trurodiocese.org.uk/event/ladock-flower-festival/
LOCATION:Ladock Church\, St Ladoca\, Ladock\, TR2 4PL\, United Kingdom
END:VEVENT
BEGIN:VEVENT
DTSTART;TZID=Europe/London:20150512T193000
DTEND;TZID=Europe/London:20150512T210000
DTSTAMP:20260422T182212
CREATED:20150424T092102Z
LAST-MODIFIED:20150424T092102Z
UID:10001621-1431459000-1431464400@trurodiocese.org.uk
SUMMARY:Camino de Santiago
DESCRIPTION:Discover Bishop Chris’s pilgrimage experiences on the Camino de Santiago on Tuesday 12 May at Ladock Church from 7.30pm.\nClick here for more details.
URL:https://trurodiocese.org.uk/event/camino-de-santiago/
LOCATION:Ladock Church\, St Ladoca\, Ladock\, TR2 4PL\, United Kingdom
ORGANIZER;CN="Barbara Holt":MAILTO:oxturnhouse@hotmail.com
END:VEVENT
END:VCALENDAR