BEGIN:VCALENDAR
VERSION:2.0
PRODID:-//Truro Diocese - ECPv6.15.15//NONSGML v1.0//EN
CALSCALE:GREGORIAN
METHOD:PUBLISH
X-ORIGINAL-URL:https://trurodiocese.org.uk
X-WR-CALDESC:Events for Truro Diocese
REFRESH-INTERVAL;VALUE=DURATION:PT1H
X-Robots-Tag:noindex
X-PUBLISHED-TTL:PT1H
BEGIN:VTIMEZONE
TZID:Europe/London
BEGIN:DAYLIGHT
TZOFFSETFROM:+0000
TZOFFSETTO:+0100
TZNAME:BST
DTSTART:20240331T010000
END:DAYLIGHT
BEGIN:STANDARD
TZOFFSETFROM:+0100
TZOFFSETTO:+0000
TZNAME:GMT
DTSTART:20241027T010000
END:STANDARD
BEGIN:DAYLIGHT
TZOFFSETFROM:+0000
TZOFFSETTO:+0100
TZNAME:BST
DTSTART:20250330T010000
END:DAYLIGHT
BEGIN:STANDARD
TZOFFSETFROM:+0100
TZOFFSETTO:+0000
TZNAME:GMT
DTSTART:20251026T010000
END:STANDARD
BEGIN:DAYLIGHT
TZOFFSETFROM:+0000
TZOFFSETTO:+0100
TZNAME:BST
DTSTART:20260329T010000
END:DAYLIGHT
BEGIN:STANDARD
TZOFFSETFROM:+0100
TZOFFSETTO:+0000
TZNAME:GMT
DTSTART:20261025T010000
END:STANDARD
END:VTIMEZONE
BEGIN:VEVENT
DTSTART;TZID=Europe/London:20250621T100000
DTEND;TZID=Europe/London:20250621T143000
DTSTAMP:20260420T162707
CREATED:20250605T090717Z
LAST-MODIFIED:20250605T090717Z
UID:10003214-1750500000-1750516200@trurodiocese.org.uk
SUMMARY:Wellbeing in Ministry and Work teaching day
DESCRIPTION:This events includes: \n\nCovering Stress – Dr Kara Lawman\nUnderstanding Perfectionism – Jamie Moore\, Worship Minister\nProtecting from burnout – Josiah Gillespie\, Pastor\n\n£15 incl. lunch. \nFind out more: www.swsow.org.uk
URL:https://trurodiocese.org.uk/event/wellbeing-in-ministry-and-work-teaching-day/
LOCATION:Connect Church\, Molesworth St\, Wadebridge\, PL27 7DS\, United Kingdom
ATTACH;FMTTYPE=image/png:https://trurodiocese.org.uk/wp-content/uploads/2025/06/Teaching-Day.png
END:VEVENT
END:VCALENDAR