BEGIN:VCALENDAR
VERSION:2.0
PRODID:-//Truro Diocese - ECPv6.15.15//NONSGML v1.0//EN
CALSCALE:GREGORIAN
METHOD:PUBLISH
X-ORIGINAL-URL:https://trurodiocese.org.uk
X-WR-CALDESC:Events for Truro Diocese
REFRESH-INTERVAL;VALUE=DURATION:PT1H
X-Robots-Tag:noindex
X-PUBLISHED-TTL:PT1H
BEGIN:VTIMEZONE
TZID:Europe/London
BEGIN:DAYLIGHT
TZOFFSETFROM:+0000
TZOFFSETTO:+0100
TZNAME:BST
DTSTART:20210328T010000
END:DAYLIGHT
BEGIN:STANDARD
TZOFFSETFROM:+0100
TZOFFSETTO:+0000
TZNAME:GMT
DTSTART:20211031T010000
END:STANDARD
BEGIN:DAYLIGHT
TZOFFSETFROM:+0000
TZOFFSETTO:+0100
TZNAME:BST
DTSTART:20220327T010000
END:DAYLIGHT
BEGIN:STANDARD
TZOFFSETFROM:+0100
TZOFFSETTO:+0000
TZNAME:GMT
DTSTART:20221030T010000
END:STANDARD
BEGIN:DAYLIGHT
TZOFFSETFROM:+0000
TZOFFSETTO:+0100
TZNAME:BST
DTSTART:20230326T010000
END:DAYLIGHT
BEGIN:STANDARD
TZOFFSETFROM:+0100
TZOFFSETTO:+0000
TZNAME:GMT
DTSTART:20231029T010000
END:STANDARD
END:VTIMEZONE
BEGIN:VEVENT
DTSTART;TZID=Europe/London:20220722T190000
DTEND;TZID=Europe/London:20220722T213000
DTSTAMP:20260421T213430
CREATED:20220714T095607Z
LAST-MODIFIED:20220714T095607Z
UID:10002230-1658516400-1658525400@trurodiocese.org.uk
SUMMARY:National Trauma Past and Present
DESCRIPTION:Mark Chapman\, our Canon Theologian\, explores the Church of England’s response to major crises\, including the First World War and the Flu Pandemic that followed\, and the Church’s response to COVID-19. He analyses the ways in which the word ‘crisis’ has been understood both in the past and in the present and the challenges it continues to pose for the church.
URL:https://trurodiocese.org.uk/event/national-trauma-past-and-present/
LOCATION:The Old Cathedral School
END:VEVENT
END:VCALENDAR