BEGIN:VCALENDAR
VERSION:2.0
PRODID:-//Truro Diocese - ECPv6.15.15//NONSGML v1.0//EN
CALSCALE:GREGORIAN
METHOD:PUBLISH
X-ORIGINAL-URL:https://trurodiocese.org.uk
X-WR-CALDESC:Events for Truro Diocese
REFRESH-INTERVAL;VALUE=DURATION:PT1H
X-Robots-Tag:noindex
X-PUBLISHED-TTL:PT1H
BEGIN:VTIMEZONE
TZID:Europe/London
BEGIN:DAYLIGHT
TZOFFSETFROM:+0000
TZOFFSETTO:+0100
TZNAME:BST
DTSTART:20140330T010000
END:DAYLIGHT
BEGIN:STANDARD
TZOFFSETFROM:+0100
TZOFFSETTO:+0000
TZNAME:GMT
DTSTART:20141026T010000
END:STANDARD
BEGIN:DAYLIGHT
TZOFFSETFROM:+0000
TZOFFSETTO:+0100
TZNAME:BST
DTSTART:20150329T010000
END:DAYLIGHT
BEGIN:STANDARD
TZOFFSETFROM:+0100
TZOFFSETTO:+0000
TZNAME:GMT
DTSTART:20151025T010000
END:STANDARD
BEGIN:DAYLIGHT
TZOFFSETFROM:+0000
TZOFFSETTO:+0100
TZNAME:BST
DTSTART:20160327T010000
END:DAYLIGHT
BEGIN:STANDARD
TZOFFSETFROM:+0100
TZOFFSETTO:+0000
TZNAME:GMT
DTSTART:20161030T010000
END:STANDARD
END:VTIMEZONE
BEGIN:VEVENT
DTSTART;TZID=Europe/London:20150221T100000
DTEND;TZID=Europe/London:20150221T113000
DTSTAMP:20260420T125723
CREATED:20150130T114031Z
LAST-MODIFIED:20150130T114031Z
UID:10001578-1424512800-1424518200@trurodiocese.org.uk
SUMMARY:Cornwall Night Stop
DESCRIPTION:Preventing young people from sleeping rough in Cornwall\, two information events will be held on Monday 16 February from 7pm and Saturday 21 February from 10am at Church House\, Truro.\nClick here for more details and directions to Church House.
URL:https://trurodiocese.org.uk/event/cornwall-night-stop-2/
LOCATION:Church House\, Woodlands Court\, Truro Business Park\, Threemilestone\, Truro\, TR4 9NH\, United Kingdom
ORGANIZER;CN="Paul Green":MAILTO:paul.green@truro.anglican.org
END:VEVENT
BEGIN:VEVENT
DTSTART;TZID=Europe/London:20150216T190000
DTEND;TZID=Europe/London:20150216T203000
DTSTAMP:20260420T125723
CREATED:20150130T113551Z
LAST-MODIFIED:20150130T113551Z
UID:10001577-1424113200-1424118600@trurodiocese.org.uk
SUMMARY:Cornwall Night Stop
DESCRIPTION:Preventing young people from sleeping rough in Cornwall\, two information events will be held on Monday 16 February from 7pm and Saturday 21 February from 10am at Church House\, Truro.\nClick here for more details and directions to Church House.
URL:https://trurodiocese.org.uk/event/cornwall-night-stop/
LOCATION:Church House\, Woodlands Court\, Truro Business Park\, Threemilestone\, Truro\, TR4 9NH\, United Kingdom
ORGANIZER;CN="Paul Green":MAILTO:paul.green@truro.anglican.org
END:VEVENT
END:VCALENDAR