BEGIN:VCALENDAR
VERSION:2.0
PRODID:-//Truro Diocese - ECPv6.15.15//NONSGML v1.0//EN
CALSCALE:GREGORIAN
METHOD:PUBLISH
X-ORIGINAL-URL:https://trurodiocese.org.uk
X-WR-CALDESC:Events for Truro Diocese
REFRESH-INTERVAL;VALUE=DURATION:PT1H
X-Robots-Tag:noindex
X-PUBLISHED-TTL:PT1H
BEGIN:VTIMEZONE
TZID:Europe/London
BEGIN:DAYLIGHT
TZOFFSETFROM:+0000
TZOFFSETTO:+0100
TZNAME:BST
DTSTART:20140330T010000
END:DAYLIGHT
BEGIN:STANDARD
TZOFFSETFROM:+0100
TZOFFSETTO:+0000
TZNAME:GMT
DTSTART:20141026T010000
END:STANDARD
BEGIN:DAYLIGHT
TZOFFSETFROM:+0000
TZOFFSETTO:+0100
TZNAME:BST
DTSTART:20150329T010000
END:DAYLIGHT
BEGIN:STANDARD
TZOFFSETFROM:+0100
TZOFFSETTO:+0000
TZNAME:GMT
DTSTART:20151025T010000
END:STANDARD
BEGIN:DAYLIGHT
TZOFFSETFROM:+0000
TZOFFSETTO:+0100
TZNAME:BST
DTSTART:20160327T010000
END:DAYLIGHT
BEGIN:STANDARD
TZOFFSETFROM:+0100
TZOFFSETTO:+0000
TZNAME:GMT
DTSTART:20161030T010000
END:STANDARD
END:VTIMEZONE
BEGIN:VEVENT
DTSTART;TZID=Europe/London:20150904T193000
DTEND;TZID=Europe/London:20150904T210000
DTSTAMP:20260421T234629
CREATED:20150803T125527Z
LAST-MODIFIED:20150803T125527Z
UID:10001664-1441395000-1441400400@trurodiocese.org.uk
SUMMARY:Alastair Taylor with the Lowena Voices
DESCRIPTION:Friday 4 September at Lanivet Church from 7.30pm. \nClick here for more information. \n  \n 
URL:https://trurodiocese.org.uk/event/alastair-taylor-with-the-lowena-voices/
LOCATION:Lanivet Parish Church\, Rectory Road \, Lanivet \, PL30 5NA\, United Kingdom
END:VEVENT
BEGIN:VEVENT
DTSTART;TZID=Europe/London:20150711T190000
DTEND;TZID=Europe/London:20150711T203000
DTSTAMP:20260421T234629
CREATED:20150708T122524Z
LAST-MODIFIED:20150708T122524Z
UID:10002436-1436641200-1436646600@trurodiocese.org.uk
SUMMARY:Loveny Male Voice Choir Concert
DESCRIPTION:Lanivet Church invite you to a concert on Saturday\, July 11. Loveny Male Voice Choir with guests Millpool Chorale will be performing from 7pm. Tickets are £7 including refreshments and are available from Jim & Maureen Lloyd on 01208 832373. There is wheelchair access available.
URL:https://trurodiocese.org.uk/event/loveny-male-voice-choir-concert/
LOCATION:Lanivet Parish Church\, Rectory Road \, Lanivet \, PL30 5NA\, United Kingdom
END:VEVENT
END:VCALENDAR