BEGIN:VCALENDAR
VERSION:2.0
PRODID:-//Truro Diocese - ECPv6.15.15//NONSGML v1.0//EN
CALSCALE:GREGORIAN
METHOD:PUBLISH
X-WR-CALNAME:Truro Diocese
X-ORIGINAL-URL:https://trurodiocese.org.uk
X-WR-CALDESC:Events for Truro Diocese
REFRESH-INTERVAL;VALUE=DURATION:PT1H
X-Robots-Tag:noindex
X-PUBLISHED-TTL:PT1H
BEGIN:VTIMEZONE
TZID:UTC
BEGIN:STANDARD
TZOFFSETFROM:+0000
TZOFFSETTO:+0000
TZNAME:UTC
DTSTART:20150101T000000
END:STANDARD
END:VTIMEZONE
BEGIN:VEVENT
DTSTART;TZID=UTC:20160306T180000
DTEND;TZID=UTC:20160306T203000
DTSTAMP:20260420T144400
CREATED:20160128T114152Z
LAST-MODIFIED:20160128T114152Z
UID:10001786-1457287200-1457296200@trurodiocese.org.uk
SUMMARY:Canon Sings St Mark's Gospel
DESCRIPTION:Canon Alan Rowell has found a particular ministry in singing\, from memory\, his own translation of St Mark’s Gospel. \nThe performance takes just under two hours\, including a tea-break half-way through.  There are obvious advantages for Christians in hearing the whole Gospel story in one go.  It has also roused interest in those who normally give little thought to the Christian Faith. \nAlan has performed in churches\, homes\, and several times out-doors!  He prefers smallish numbers\, being easier to relate to all present.\nHis next performance is in Truro Cathedral 6pm Sunday 6th March. Alan can also be contacted at canonrowell@outlook.com\, or 075 999 471 08.
URL:https://trurodiocese.org.uk/event/canon-sings-st-marks-gospel/
LOCATION:Truro Cathedral\, Truro\, Cornwall\, United Kingdom
ORGANIZER;CN="Alan Rowell":MAILTO:canonrowell@outlook.com
END:VEVENT
END:VCALENDAR